BEGIN:VCALENDAR
VERSION:2.0
PRODID:icalendar-ruby
CALSCALE:GREGORIAN
BEGIN:VEVENT
DTSTAMP:20260425T105101Z
UID:4ee43862-8bec-4672-b4d0-ad7be579898a
DTSTART;VALUE=DATE:20200723
DESCRIPTION:Property ID# 484260\, Locatoin: Harcourts Auction Rooms\, 1 Thi
 rd Avenue\, Tauranga\, Unless Sold Prior\, Time: 1:30PM
SUMMARY:Auction for 
END:VEVENT
END:VCALENDAR
