BEGIN:VCALENDAR
VERSION:2.0
PRODID:icalendar-ruby
CALSCALE:GREGORIAN
BEGIN:VEVENT
DTSTAMP:20260421T141213Z
UID:ddb7ad6a-e743-42f7-a56f-6ef0dff5f608
DTSTART;VALUE=DATE:20200826
DESCRIPTION:Property ID# 484959\, Locatoin: Ray White Auction Rooms. 5/ 9 D
 omain Road\, Papamoa.\, Time: 12:00PM
SUMMARY:Auction for 
END:VEVENT
END:VCALENDAR
