BEGIN:VCALENDAR
VERSION:2.0
PRODID:icalendar-ruby
CALSCALE:GREGORIAN
BEGIN:VEVENT
DTSTAMP:20260421T115902Z
UID:bf9539fe-4ae5-4634-afed-0f3383860954
DTSTART;VALUE=DATE:20201110
DESCRIPTION:Property ID# 491991\, Time: 1:00PM
SUMMARY:Auction for 
END:VEVENT
END:VCALENDAR
