BEGIN:VCALENDAR
VERSION:2.0
PRODID:icalendar-ruby
CALSCALE:GREGORIAN
BEGIN:VEVENT
DTSTAMP:20260422T104643Z
UID:4014beda-1bed-4823-866f-4365bd5db43c
DTSTART;VALUE=DATE:20201105
DESCRIPTION:Property ID# 492494\, Locatoin: EVES Auction Room: 247 Cameron 
 Road\, Tauranga (unless sold prior)	\, Time: 12:00PM
SUMMARY:Auction for 
END:VEVENT
END:VCALENDAR
