BEGIN:VCALENDAR
VERSION:2.0
PRODID:icalendar-ruby
CALSCALE:GREGORIAN
BEGIN:VEVENT
DTSTAMP:20260422T134134Z
UID:7df2d4c7-7b25-4753-9fae-973d2410501d
DTSTART;VALUE=DATE:20210211
DESCRIPTION:Property ID# 499751\, Locatoin: In rooms\, Time: 12:00PM
SUMMARY:Auction for 
END:VEVENT
END:VCALENDAR
