BEGIN:VCALENDAR
VERSION:2.0
PRODID:icalendar-ruby
CALSCALE:GREGORIAN
BEGIN:VEVENT
DTSTAMP:20260420T003605Z
UID:7ff13791-71aa-4c39-9749-ae8f9589c07e
DTSTART;VALUE=DATE:20210225
DESCRIPTION:Property ID# 500947\, Locatoin: Harcourts Auction Rooms\, 1 Thi
 rd Avenue\, Tauranga\, Unless Sold Prior\, Time: 1:00PM
SUMMARY:Auction for 
END:VEVENT
END:VCALENDAR
