BEGIN:VCALENDAR
VERSION:2.0
PRODID:icalendar-ruby
CALSCALE:GREGORIAN
BEGIN:VEVENT
DTSTAMP:20260422T140728Z
UID:421c6dac-d1d2-4cce-b18c-1ae11f6102ef
DTSTART;VALUE=DATE:20210324
DESCRIPTION:Property ID# 503486\, Locatoin: In rooms\, Time: 4:00PM
SUMMARY:Auction for 
END:VEVENT
END:VCALENDAR
