BEGIN:VCALENDAR
VERSION:2.0
PRODID:icalendar-ruby
CALSCALE:GREGORIAN
BEGIN:VEVENT
DTSTAMP:20260419T212307Z
UID:f61962f6-fe88-4877-a9f4-f1d561f1c722
DTSTART;VALUE=DATE:20210325
DESCRIPTION:Property ID# 504517\, Locatoin: Harcourts Auction Rooms\, 1 Thi
 rd Avenue\, Tauranga\, Unless Sold Prior\, Time: 2:00PM
SUMMARY:Auction for 
END:VEVENT
END:VCALENDAR
