BEGIN:VCALENDAR
VERSION:2.0
PRODID:icalendar-ruby
CALSCALE:GREGORIAN
BEGIN:VEVENT
DTSTAMP:20260425T105054Z
UID:1972861f-baa0-4b5b-92c8-beb2a85e9478
DTSTART;VALUE=DATE:20210506
DESCRIPTION:Property ID# 507946\, Locatoin: Harcourts Auction Rooms\, 1 Thi
 rd Avenue\, Tauranga\, Unless Sold Prior\, Time: 1:30PM
SUMMARY:Auction for 
END:VEVENT
END:VCALENDAR
