BEGIN:VCALENDAR
VERSION:2.0
PRODID:icalendar-ruby
CALSCALE:GREGORIAN
BEGIN:VEVENT
DTSTAMP:20260422T140913Z
UID:5a1cda0c-a8d7-41fd-949b-565cb30b0a12
DTSTART;VALUE=DATE:20210701
DESCRIPTION:Property ID# 511098\, Locatoin: In rooms\, Time: 1:00PM
SUMMARY:Auction for 
END:VEVENT
END:VCALENDAR
