BEGIN:VCALENDAR
VERSION:2.0
PRODID:icalendar-ruby
CALSCALE:GREGORIAN
BEGIN:VEVENT
DTSTAMP:20260420T132831Z
UID:89969f3d-e0a8-4cd3-8148-eb207454b5f7
DTSTART;VALUE=DATE:20210728
DESCRIPTION:Property ID# 513515\, Time: 1:00PM
SUMMARY:Auction for 
END:VEVENT
END:VCALENDAR
