BEGIN:VCALENDAR
VERSION:2.0
PRODID:icalendar-ruby
CALSCALE:GREGORIAN
BEGIN:VEVENT
DTSTAMP:20260419T212607Z
UID:23b0e44e-9907-492e-982e-ab153cee4f1d
DTSTART;VALUE=DATE:20210819
DESCRIPTION:Property ID# 514916\, Locatoin: Harcourts Auction Rooms\, 1 Thi
 rd Avenue\, Tauranga\, Unless Sold Prior\, Time: 11:30AM
SUMMARY:Auction for 
END:VEVENT
END:VCALENDAR
