BEGIN:VCALENDAR
VERSION:2.0
PRODID:icalendar-ruby
CALSCALE:GREGORIAN
BEGIN:VEVENT
DTSTAMP:20260423T143630Z
UID:8a79ae2c-7421-44a0-bed4-b097107ab869
DTSTART;VALUE=DATE:20210902
DESCRIPTION:Property ID# 515617\, Locatoin: Harcourts Auction Rooms\, 1 Thi
 rd Avenue\, Tauranga\, Unless Sold Prior\, Time: 11:30AM
SUMMARY:Auction for 
END:VEVENT
END:VCALENDAR
