BEGIN:VCALENDAR
VERSION:2.0
PRODID:icalendar-ruby
CALSCALE:GREGORIAN
BEGIN:VEVENT
DTSTAMP:20260422T051116Z
UID:26f9dc11-c911-4a6e-8f3d-4d3034df9e9e
DTSTART;VALUE=DATE:20211007
DESCRIPTION:Property ID# 517269\, Locatoin: ANZ Building\, cnr Cameron Road
  and Elizabeth Street\, Time: 1:00PM
SUMMARY:Auction for 
END:VEVENT
END:VCALENDAR
