BEGIN:VCALENDAR
VERSION:2.0
PRODID:icalendar-ruby
CALSCALE:GREGORIAN
BEGIN:VEVENT
DTSTAMP:20260424T100524Z
UID:732f233b-971e-4bc6-bf9d-9f88d7a42be8
DTSTART;VALUE=DATE:20211014
DESCRIPTION:Property ID# 517399\, Locatoin: In rooms\, Time: 1:00PM
SUMMARY:Auction for 
END:VEVENT
END:VCALENDAR
