BEGIN:VCALENDAR
VERSION:2.0
PRODID:icalendar-ruby
CALSCALE:GREGORIAN
BEGIN:VEVENT
DTSTAMP:20260420T185517Z
UID:1e4c58d6-7181-4f95-9ffa-97ebe72347f6
DTSTART;VALUE=DATE:20220127
DESCRIPTION:Property ID# 525175\, Time: 4:00PM
SUMMARY:Auction for 
END:VEVENT
END:VCALENDAR
