BEGIN:VCALENDAR
VERSION:2.0
PRODID:icalendar-ruby
CALSCALE:GREGORIAN
BEGIN:VEVENT
DTSTAMP:20260420T113714Z
UID:06306ba6-43be-4c28-95fe-f789920d0f9a
DTSTART;VALUE=DATE:20220217
DESCRIPTION:Property ID# 526668\, Locatoin: 247 Cameron Road (cnr Elizabeth
  Street)\, Tauranga (unless sold prior)\, Time: 1:00PM
SUMMARY:Auction for 
END:VEVENT
END:VCALENDAR
