BEGIN:VCALENDAR
VERSION:2.0
PRODID:icalendar-ruby
CALSCALE:GREGORIAN
BEGIN:VEVENT
DTSTAMP:20260420T185254Z
UID:422284d2-60bf-4727-b7a4-66f7ab4c24cc
DTSTART;VALUE=DATE:20220428
DESCRIPTION:Property ID# 533816\, Time: 4:00PM
SUMMARY:Auction for 
END:VEVENT
END:VCALENDAR
