BEGIN:VCALENDAR
VERSION:2.0
PRODID:icalendar-ruby
CALSCALE:GREGORIAN
BEGIN:VEVENT
DTSTAMP:20260422T174557Z
UID:74a4c748-b8dd-4d9c-8e01-b1569f6e6df7
DTSTART;VALUE=DATE:20230622
DESCRIPTION:Property ID# 557882\, Locatoin: Auction rooms\, 247 Cameron Rd\
 , Tauranga \, Time: 1:00PM
SUMMARY:Auction for 
END:VEVENT
END:VCALENDAR
