BEGIN:VCALENDAR
VERSION:2.0
PRODID:icalendar-ruby
CALSCALE:GREGORIAN
BEGIN:VEVENT
DTSTAMP:20260422T200343Z
UID:7db3891e-c2bc-40f7-af1f-5324269a0cb9
DTSTART;VALUE=DATE:20240207
DESCRIPTION:Property ID# 568489\, Time: 12:30PM
SUMMARY:Auction for 
END:VEVENT
END:VCALENDAR
