BEGIN:VCALENDAR
VERSION:2.0
PRODID:icalendar-ruby
CALSCALE:GREGORIAN
BEGIN:VEVENT
DTSTAMP:20260422T174429Z
UID:b9dcc3e3-ced6-4105-acad-5d9365836109
DTSTART;VALUE=DATE:20240314
DESCRIPTION:Property ID# 570744\, Locatoin: Auction rooms\, 247 Cameron Rd\
 , Tauranga \, Time: 1:00PM
SUMMARY:Auction for 
END:VEVENT
END:VCALENDAR
