BEGIN:VCALENDAR
VERSION:2.0
PRODID:icalendar-ruby
CALSCALE:GREGORIAN
BEGIN:VEVENT
DTSTAMP:20260423T092002Z
UID:6f383fe8-e3e9-4568-82cf-1e207d1009ae
DTSTART;VALUE=DATE:20240717
DESCRIPTION:Property ID# 577336\, Locatoin: Vosper Realty Ltd\, 182 Devonpo
 rt Rd\, Tauranga\, Time: 4:00PM
SUMMARY:Auction for 
END:VEVENT
END:VCALENDAR
