BEGIN:VCALENDAR
VERSION:2.0
PRODID:icalendar-ruby
CALSCALE:GREGORIAN
BEGIN:VEVENT
DTSTAMP:20260420T165901Z
UID:49fee47c-46ad-48fb-acbe-cd6476a9db37
DTSTART;VALUE=DATE:20250321
DESCRIPTION:Property ID# 582317\, Locatoin: 1135 Amohau Street Rotorua - Pu
 lman Hotel \, Time: 1:00PM
SUMMARY:Auction for 
END:VEVENT
END:VCALENDAR
