BEGIN:VCALENDAR
VERSION:2.0
PRODID:icalendar-ruby
CALSCALE:GREGORIAN
BEGIN:VEVENT
DTSTAMP:20260421T102000Z
UID:20e47a86-d715-4b9a-a547-6dced06a39b6
DTSTART;VALUE=DATE:20241114
DESCRIPTION:Property ID# 582429\, Time: 10:00AM
SUMMARY:Auction for 
END:VEVENT
END:VCALENDAR
