BEGIN:VCALENDAR
VERSION:2.0
PRODID:icalendar-ruby
CALSCALE:GREGORIAN
BEGIN:VEVENT
DTSTAMP:20260420T094303Z
UID:0f293511-37e6-40f6-8b66-4290796b935d
DTSTART;VALUE=DATE:20241120
DESCRIPTION:Property ID# 583371\, Locatoin: Harcourts Auction Rooms\, 1 Thi
 rd Avenue\, Tauranga (Unless Sold Prior)\, Time: 12:00PM
SUMMARY:Auction for 
END:VEVENT
END:VCALENDAR
