BEGIN:VCALENDAR
VERSION:2.0
PRODID:icalendar-ruby
CALSCALE:GREGORIAN
BEGIN:VEVENT
DTSTAMP:20260422T170310Z
UID:55273b3e-4844-4162-aa33-4d4a9521540f
DTSTART;VALUE=DATE:20241205
DESCRIPTION:Property ID# 584049\, Time: 1:00PM
SUMMARY:Auction for 
END:VEVENT
END:VCALENDAR
