BEGIN:VCALENDAR
VERSION:2.0
PRODID:icalendar-ruby
CALSCALE:GREGORIAN
BEGIN:VEVENT
DTSTAMP:20260424T084903Z
UID:4fd1a80e-81ed-49e0-b7a8-4d90e0826e4c
DTSTART;VALUE=DATE:20250501
DESCRIPTION:Property ID# 590633\, Locatoin: EVES Auction Rooms\, 247 Camero
 n Road Tauranga\, Time: 1:00PM
SUMMARY:Auction for 
END:VEVENT
END:VCALENDAR
