BEGIN:VCALENDAR
VERSION:2.0
PRODID:icalendar-ruby
CALSCALE:GREGORIAN
BEGIN:VEVENT
DTSTAMP:20260420T165913Z
UID:88777568-6cae-4087-8986-dbf4a5853400
DTSTART;VALUE=DATE:20250717
DESCRIPTION:Property ID# 593959\, Time: 4:00PM
SUMMARY:Auction for 
END:VEVENT
END:VCALENDAR
