BEGIN:VCALENDAR
VERSION:2.0
PRODID:icalendar-ruby
CALSCALE:GREGORIAN
BEGIN:VEVENT
DTSTAMP:20260422T105004Z
UID:80b26360-0ec7-4719-9225-1131d421084b
DTSTART;VALUE=DATE:20250814
DESCRIPTION:Property ID# 594648\, Locatoin: Eves Auction Rooms\, 247 Camero
 n Road\, Tauranga\, Time: 2:00PM
SUMMARY:Auction for 
END:VEVENT
END:VCALENDAR
