BEGIN:VCALENDAR
VERSION:2.0
PRODID:icalendar-ruby
CALSCALE:GREGORIAN
BEGIN:VEVENT
DTSTAMP:20260422T165840Z
UID:dce0cc67-5f29-48a3-9104-e191c80eb63b
DTSTART;VALUE=DATE:20250820
DESCRIPTION:Property ID# 595470\, Time: 2:00PM
SUMMARY:Auction for 
END:VEVENT
END:VCALENDAR
