BEGIN:VCALENDAR
VERSION:2.0
PRODID:icalendar-ruby
CALSCALE:GREGORIAN
BEGIN:VEVENT
DTSTAMP:20260422T132224Z
UID:da2a757c-33ce-4829-bd71-2881721b11f1
DTSTART;VALUE=DATE:20250904
DESCRIPTION:Property ID# 596130\, Locatoin: Eves Auction Rooms\, 247 Camero
 n Road\, Tauranga\, Time: 1:00PM
SUMMARY:Auction for 
END:VEVENT
END:VCALENDAR
