BEGIN:VCALENDAR
VERSION:2.0
PRODID:icalendar-ruby
CALSCALE:GREGORIAN
BEGIN:VEVENT
DTSTAMP:20260420T170412Z
UID:0a1b2b22-c4ee-44b3-b2da-e7731176d665
DTSTART;VALUE=DATE:20250911
DESCRIPTION:Property ID# 596635\, Time: 12:00PM
SUMMARY:Auction for 
END:VEVENT
END:VCALENDAR
