BEGIN:VCALENDAR
VERSION:2.0
PRODID:icalendar-ruby
CALSCALE:GREGORIAN
BEGIN:VEVENT
DTSTAMP:20260422T174351Z
UID:52922406-680c-493d-841e-40eed4f97291
DTSTART;VALUE=DATE:20250925
DESCRIPTION:Property ID# 596957\, Time: 12:00PM
SUMMARY:Auction for 
END:VEVENT
END:VCALENDAR
