BEGIN:VCALENDAR
VERSION:2.0
PRODID:icalendar-ruby
CALSCALE:GREGORIAN
BEGIN:VEVENT
DTSTAMP:20260422T174309Z
UID:dd41c2d8-aef6-4c21-a0de-cfd3148c509c
DTSTART;VALUE=DATE:20251015
DESCRIPTION:Property ID# 597704\, Locatoin: Harcourts Auction Room\, 1 Thir
 d Avenue\, Tauranga\, Time: 12:00PM
SUMMARY:Auction for 
END:VEVENT
END:VCALENDAR
