BEGIN:VCALENDAR
VERSION:2.0
PRODID:icalendar-ruby
CALSCALE:GREGORIAN
BEGIN:VEVENT
DTSTAMP:20260420T164228Z
UID:586c85e2-d90c-47d6-902a-0693b9a89d75
DTSTART;VALUE=DATE:20251105
DESCRIPTION:Property ID# 599372\, Time: 12:00PM
SUMMARY:Auction for 
END:VEVENT
END:VCALENDAR
