BEGIN:VCALENDAR
VERSION:2.0
PRODID:icalendar-ruby
CALSCALE:GREGORIAN
BEGIN:VEVENT
DTSTAMP:20260420T201833Z
UID:6f2917bc-804b-435a-95a0-866e7602aa1d
DTSTART;VALUE=DATE:20251211
DESCRIPTION:Property ID# 600367\, Time: 3:00PM
SUMMARY:Auction for 
END:VEVENT
END:VCALENDAR
