BEGIN:VCALENDAR
VERSION:2.0
PRODID:icalendar-ruby
CALSCALE:GREGORIAN
BEGIN:VEVENT
DTSTAMP:20260420T165710Z
UID:3ed273b9-0d47-4b96-92f1-795317070f09
DTSTART;VALUE=DATE:20251126
DESCRIPTION:Property ID# 600514\, Time: 12:00PM
SUMMARY:Auction for 
END:VEVENT
END:VCALENDAR
