BEGIN:VCALENDAR
VERSION:2.0
PRODID:icalendar-ruby
CALSCALE:GREGORIAN
BEGIN:VEVENT
DTSTAMP:20260422T172710Z
UID:2febc0a5-f601-4d59-999c-7f84c58c1d09
DTSTART;VALUE=DATE:20251203
DESCRIPTION:Property ID# 600577\, Locatoin: Harcourts Auction Room\, 1 Thir
 d Avenue\, Tauranga\, Time: 11:30AM
SUMMARY:Auction for 
END:VEVENT
END:VCALENDAR
