BEGIN:VCALENDAR
VERSION:2.0
PRODID:icalendar-ruby
CALSCALE:GREGORIAN
BEGIN:VEVENT
DTSTAMP:20260422T174130Z
UID:ad4866c9-3cec-4c76-a9f4-12303f188d9a
DTSTART;VALUE=DATE:20251217
DESCRIPTION:Property ID# 601213\, Locatoin: Harcourts Auction Room\, 1 Thir
 d Avenue\, Tauranga\, Time: 11:30AM
SUMMARY:Auction for 
END:VEVENT
END:VCALENDAR
