BEGIN:VCALENDAR
VERSION:2.0
PRODID:icalendar-ruby
CALSCALE:GREGORIAN
BEGIN:VEVENT
DTSTAMP:20260420T164519Z
UID:84c973de-66ca-46e1-ab2d-17d11188a04f
DTSTART;VALUE=DATE:20260129
DESCRIPTION:Property ID# 601614\, Time: 4:00PM
SUMMARY:Auction for 
END:VEVENT
END:VCALENDAR
