BEGIN:VCALENDAR
VERSION:2.0
PRODID:icalendar-ruby
CALSCALE:GREGORIAN
BEGIN:VEVENT
DTSTAMP:20260422T165720Z
UID:3d42cbb3-8e54-4f64-b845-7da1cb08d27c
DTSTART;VALUE=DATE:20260205
DESCRIPTION:Property ID# 601791\, Locatoin: Auction Rooms\, 247 Cameron Roa
 d\, Tauranga. Unless sold prior\, Time: 1:00PM
SUMMARY:Auction for 
END:VEVENT
END:VCALENDAR
