BEGIN:VCALENDAR
VERSION:2.0
PRODID:icalendar-ruby
CALSCALE:GREGORIAN
BEGIN:VEVENT
DTSTAMP:20260420T165912Z
UID:500ad6e2-cdba-454b-95bf-e0d087375b8e
DTSTART;VALUE=DATE:20260226
DESCRIPTION:Property ID# 602666\, Time: 4:00PM
SUMMARY:Auction for 
END:VEVENT
END:VCALENDAR
