BEGIN:VCALENDAR
VERSION:2.0
PRODID:icalendar-ruby
CALSCALE:GREGORIAN
BEGIN:VEVENT
DTSTAMP:20260424T084900Z
UID:0a95ee03-fd69-4efe-b3e6-8cb2eb7c719f
DTSTART;VALUE=DATE:20260402
DESCRIPTION:Property ID# 605366\, Locatoin: 247 Cameron Road\, Tauranga\, T
 ime: 12:00PM
SUMMARY:Auction for 
END:VEVENT
END:VCALENDAR
