BEGIN:VCALENDAR
VERSION:2.0
PRODID:icalendar-ruby
CALSCALE:GREGORIAN
BEGIN:VEVENT
DTSTAMP:20260421T120005Z
UID:6f532b1e-6962-4329-8b3c-a692ee4c84ae
DTSTART;VALUE=DATE:20260430
DESCRIPTION:Property ID# 605981\, Time: 4:00PM
SUMMARY:Auction for 30 Huia Street
END:VEVENT
END:VCALENDAR
