BEGIN:VCALENDAR
VERSION:2.0
PRODID:icalendar-ruby
CALSCALE:GREGORIAN
BEGIN:VEVENT
DTSTAMP:20260422T165558Z
UID:52b376cd-216f-47c3-9047-664d1507f8a4
DTSTART;VALUE=DATE:20260507
DESCRIPTION:Property ID# 606266\, Locatoin: Auction Rooms\, 247 Cameron Roa
 d\, Tauranga. Unless sold prior\, Time: 1:00PM
SUMMARY:Auction for 133 Waihi Road
END:VEVENT
END:VCALENDAR
