BEGIN:VCALENDAR
VERSION:2.0
PRODID:icalendar-ruby
CALSCALE:GREGORIAN
BEGIN:VEVENT
DTSTAMP:20260420T172045Z
UID:f73a74a6-ba6b-43d0-965a-6aad5776025f
DTSTART;VALUE=DATE:20260514
DESCRIPTION:Property ID# 606277\, Locatoin: East Realty\, 293 Cameron Road\
 , Tauranga (Unless Sold Prior)\, Time: 12:00PM
SUMMARY:Auction for 23 Bertrowe Drive
END:VEVENT
END:VCALENDAR
