BEGIN:VCALENDAR
VERSION:2.0
PRODID:icalendar-ruby
CALSCALE:GREGORIAN
BEGIN:VEVENT
DTSTAMP:20260420T164052Z
UID:b3f76d79-4582-4661-8460-4ef34c613130
DTSTART;VALUE=DATE:20260423
DESCRIPTION:Property ID# 606374\, Time: 12:00PM
SUMMARY:Auction for 20 Hathor Street
END:VEVENT
END:VCALENDAR
