BEGIN:VCALENDAR
VERSION:2.0
PRODID:icalendar-ruby
CALSCALE:GREGORIAN
BEGIN:VEVENT
DTSTAMP:20260420T145730Z
UID:1a66e16e-a56c-4ceb-8976-9e3f846489c3
DTSTART;VALUE=DATE:20260430
DESCRIPTION:Property ID# 606406\, Locatoin: EVES Auction Rooms\, 247 Camero
 n Road Tauranga\, Time: 12:00PM
SUMMARY:Auction for 14B Levers Road
END:VEVENT
END:VCALENDAR
