BEGIN:VCALENDAR
VERSION:2.0
PRODID:icalendar-ruby
CALSCALE:GREGORIAN
BEGIN:VEVENT
DTSTAMP:20260420T112515Z
UID:0f2ba0bf-0235-4fe6-9d66-2fa2c2f21980
DTSTART;VALUE=DATE:20260507
DESCRIPTION:Property ID# 606688\, Time: 4:00PM
SUMMARY:Auction for 15 Mahanga Road
END:VEVENT
END:VCALENDAR
