BEGIN:VCALENDAR
VERSION:2.0
PRODID:icalendar-ruby
CALSCALE:GREGORIAN
BEGIN:VEVENT
DTSTAMP:20260422T142602Z
UID:7ff1a807-58ec-4d68-b0f0-ef7384956c5a
DTSTART;VALUE=DATE:20260604
DESCRIPTION:Property ID# 607038\, Time: 2:00PM
SUMMARY:Auction for 7F Owens Place
END:VEVENT
END:VCALENDAR
